BEGIN:VCALENDAR
VERSION:2.0
PRODID:-//Tolworth United Reformed Church - ECPv6.15.20//NONSGML v1.0//EN
CALSCALE:GREGORIAN
METHOD:PUBLISH
X-WR-CALNAME:Tolworth United Reformed Church
X-ORIGINAL-URL:https://tolworthurc.org.uk
X-WR-CALDESC:Events for Tolworth United Reformed Church
REFRESH-INTERVAL;VALUE=DURATION:PT1H
X-Robots-Tag:noindex
X-PUBLISHED-TTL:PT1H
BEGIN:VTIMEZONE
TZID:Europe/London
BEGIN:DAYLIGHT
TZOFFSETFROM:+0000
TZOFFSETTO:+0100
TZNAME:BST
DTSTART:20240331T010000
END:DAYLIGHT
BEGIN:STANDARD
TZOFFSETFROM:+0100
TZOFFSETTO:+0000
TZNAME:GMT
DTSTART:20241027T010000
END:STANDARD
BEGIN:DAYLIGHT
TZOFFSETFROM:+0000
TZOFFSETTO:+0100
TZNAME:BST
DTSTART:20250330T010000
END:DAYLIGHT
BEGIN:STANDARD
TZOFFSETFROM:+0100
TZOFFSETTO:+0000
TZNAME:GMT
DTSTART:20251026T010000
END:STANDARD
BEGIN:DAYLIGHT
TZOFFSETFROM:+0000
TZOFFSETTO:+0100
TZNAME:BST
DTSTART:20260329T010000
END:DAYLIGHT
BEGIN:STANDARD
TZOFFSETFROM:+0100
TZOFFSETTO:+0000
TZNAME:GMT
DTSTART:20261025T010000
END:STANDARD
END:VTIMEZONE
BEGIN:VEVENT
DTSTART;TZID=Europe/London:20250212T100000
DTEND;TZID=Europe/London:20250212T120000
DTSTAMP:20260425T151324
CREATED:20250211T204600Z
LAST-MODIFIED:20250211T204600Z
UID:11278-1739354400-1739361600@tolworthurc.org.uk
SUMMARY:Playtime
DESCRIPTION:
URL:https://tolworthurc.org.uk/event/playtime-191/
LOCATION:Raeburn Hall
CATEGORIES:Church Events
END:VEVENT
BEGIN:VEVENT
DTSTART;TZID=Europe/London:20250212T143000
DTEND;TZID=Europe/London:20250212T170000
DTSTAMP:20260425T151324
CREATED:20250211T205005Z
LAST-MODIFIED:20250211T205005Z
UID:11282-1739370600-1739379600@tolworthurc.org.uk
SUMMARY:Elder's meeting
DESCRIPTION:
URL:https://tolworthurc.org.uk/event/elders-meeting-38/
LOCATION:Elgar Hall
CATEGORIES:Church Events
END:VEVENT
BEGIN:VEVENT
DTSTART;TZID=Europe/London:20250212T173000
DTEND;TZID=Europe/London:20250212T193000
DTSTAMP:20260425T151324
CREATED:20250215T211706Z
LAST-MODIFIED:20250215T211706Z
UID:11296-1739381400-1739388600@tolworthurc.org.uk
SUMMARY:Brownies
DESCRIPTION:
URL:https://tolworthurc.org.uk/event/brownies-162/
LOCATION:Elgar Hall
CATEGORIES:Church Events
END:VEVENT
END:VCALENDAR