BEGIN:VCALENDAR
VERSION:2.0
PRODID:-//Tolworth United Reformed Church - ECPv6.15.20//NONSGML v1.0//EN
CALSCALE:GREGORIAN
METHOD:PUBLISH
X-WR-CALNAME:Tolworth United Reformed Church
X-ORIGINAL-URL:https://tolworthurc.org.uk
X-WR-CALDESC:Events for Tolworth United Reformed Church
REFRESH-INTERVAL;VALUE=DURATION:PT1H
X-Robots-Tag:noindex
X-PUBLISHED-TTL:PT1H
BEGIN:VTIMEZONE
TZID:Europe/London
BEGIN:DAYLIGHT
TZOFFSETFROM:+0000
TZOFFSETTO:+0100
TZNAME:BST
DTSTART:20240331T010000
END:DAYLIGHT
BEGIN:STANDARD
TZOFFSETFROM:+0100
TZOFFSETTO:+0000
TZNAME:GMT
DTSTART:20241027T010000
END:STANDARD
BEGIN:DAYLIGHT
TZOFFSETFROM:+0000
TZOFFSETTO:+0100
TZNAME:BST
DTSTART:20250330T010000
END:DAYLIGHT
BEGIN:STANDARD
TZOFFSETFROM:+0100
TZOFFSETTO:+0000
TZNAME:GMT
DTSTART:20251026T010000
END:STANDARD
BEGIN:DAYLIGHT
TZOFFSETFROM:+0000
TZOFFSETTO:+0100
TZNAME:BST
DTSTART:20260329T010000
END:DAYLIGHT
BEGIN:STANDARD
TZOFFSETFROM:+0100
TZOFFSETTO:+0000
TZNAME:GMT
DTSTART:20261025T010000
END:STANDARD
END:VTIMEZONE
BEGIN:VEVENT
DTSTART;TZID=Europe/London:20250214T190000
DTEND;TZID=Europe/London:20250214T210000
DTSTAMP:20260425T164547
CREATED:20250215T213200Z
LAST-MODIFIED:20250215T213200Z
UID:11308-1739559600-1739566800@tolworthurc.org.uk
SUMMARY:Guides
DESCRIPTION:
URL:https://tolworthurc.org.uk/event/guides-169/
LOCATION:Elgar Hall
CATEGORIES:Church Events
END:VEVENT
BEGIN:VEVENT
DTSTART;TZID=Europe/London:20250216T103000
DTEND;TZID=Europe/London:20250216T113000
DTSTAMP:20260425T164547
CREATED:20250211T210838Z
LAST-MODIFIED:20250211T210838Z
UID:11288-1739701800-1739705400@tolworthurc.org.uk
SUMMARY:Morning Communion led by our Minister 03306060403 (Await instructions) Access code (Enter) 1529640# (Don’t forget the #) OR HTTPS://join.thefreeconferencecall.com/rjones
DESCRIPTION:
URL:https://tolworthurc.org.uk/event/morning-communion-led-by-our-minister-03306060403-await-instructions-access-code-enter-1529640-dont-forget-the-or-https-join-thefreeconferencecall-com-rjones-3/
LOCATION:Church
CATEGORIES:Church Events
END:VEVENT
BEGIN:VEVENT
DTSTART;TZID=Europe/London:20250223T103000
DTEND;TZID=Europe/London:20250223T113000
DTSTAMP:20260425T164547
CREATED:20250211T211129Z
LAST-MODIFIED:20250211T211129Z
UID:11290-1740306600-1740310200@tolworthurc.org.uk
SUMMARY:Family Service led by our Minister 03306060403 (Await instructions) Access code (Enter) 1529640# (Don’t forget the #) OR HTTPS://join.thefreeconferencecall.com/rjones
DESCRIPTION:
URL:https://tolworthurc.org.uk/event/family-service-led-by-our-minister-03306060403-await-instructions-access-code-enter-1529640-dont-forget-the-or-https-join-thefreeconferencecall-com-rjones-3/
LOCATION:Church
CATEGORIES:Church Events
END:VEVENT
BEGIN:VEVENT
DTSTART;TZID=Europe/London:20250224T173000
DTEND;TZID=Europe/London:20250224T190000
DTSTAMP:20260425T164547
CREATED:20250211T204000Z
LAST-MODIFIED:20250211T204000Z
UID:11273-1740418200-1740423600@tolworthurc.org.uk
SUMMARY:Pilots
DESCRIPTION:
URL:https://tolworthurc.org.uk/event/pilots-196/
LOCATION:Elgar Hall
CATEGORIES:Church Events
END:VEVENT
BEGIN:VEVENT
DTSTART;TZID=Europe/London:20250226T100000
DTEND;TZID=Europe/London:20250226T120000
DTSTAMP:20260425T164547
CREATED:20250211T204815Z
LAST-MODIFIED:20250211T204815Z
UID:11280-1740564000-1740571200@tolworthurc.org.uk
SUMMARY:Playtime
DESCRIPTION:
URL:https://tolworthurc.org.uk/event/playtime-192/
LOCATION:Raeburn Hall
CATEGORIES:Church Events
END:VEVENT
BEGIN:VEVENT
DTSTART;TZID=Europe/London:20250226T173000
DTEND;TZID=Europe/London:20250226T193000
DTSTAMP:20260425T164547
CREATED:20250215T211913Z
LAST-MODIFIED:20250215T212102Z
UID:11298-1740591000-1740598200@tolworthurc.org.uk
SUMMARY:Brownies
DESCRIPTION:
URL:https://tolworthurc.org.uk/event/brownies-163/
LOCATION:Elgar Hall
CATEGORIES:Church Events
END:VEVENT
BEGIN:VEVENT
DTSTART;TZID=Europe/London:20250227T153000
DTEND;TZID=Europe/London:20250227T170000
DTSTAMP:20260425T164547
CREATED:20250211T205137Z
LAST-MODIFIED:20250211T205934Z
UID:11284-1740670200-1740675600@tolworthurc.org.uk
SUMMARY:Messy Church
DESCRIPTION:
URL:https://tolworthurc.org.uk/event/messy-church-42/
LOCATION:Elgar Hall
CATEGORIES:Church Events
END:VEVENT
BEGIN:VEVENT
DTSTART;TZID=Europe/London:20250228T170000
DTEND;TZID=Europe/London:20250228T183000
DTSTAMP:20260425T164547
CREATED:20250215T212714Z
LAST-MODIFIED:20250215T212714Z
UID:11304-1740762000-1740767400@tolworthurc.org.uk
SUMMARY:Rainbows
DESCRIPTION:
URL:https://tolworthurc.org.uk/event/rainbows-164/
LOCATION:Elgar Hall
CATEGORIES:Church Events
END:VEVENT
BEGIN:VEVENT
DTSTART;TZID=Europe/London:20250228T190000
DTEND;TZID=Europe/London:20250228T210000
DTSTAMP:20260425T164547
CREATED:20250215T213331Z
LAST-MODIFIED:20250215T213331Z
UID:11310-1740769200-1740776400@tolworthurc.org.uk
SUMMARY:Guides
DESCRIPTION:
URL:https://tolworthurc.org.uk/event/guides-170/
LOCATION:Elgar Hall
CATEGORIES:Church Events
END:VEVENT
BEGIN:VEVENT
DTSTART;TZID=Europe/London:20250302T103000
DTEND;TZID=Europe/London:20250302T113000
DTSTAMP:20260425T164547
CREATED:20250211T211347Z
LAST-MODIFIED:20250303T162233Z
UID:11292-1740911400-1740915000@tolworthurc.org.uk
SUMMARY:Morning Worship led by Ms Sue Shaw 03306060403 (Await instructions) Access code (Enter) 1529640# (Don’t forget the #) OR HTTPS://join.thefreeconferencecall.com/rjones
DESCRIPTION:
URL:https://tolworthurc.org.uk/event/morning-worship-led-by-ms-heather-lodge-03306060403-await-instructions-access-code-enter-1529640-dont-forget-the-or-https-join-thefreeconferencecall-com-rjones-7/
LOCATION:Church
CATEGORIES:Church Events
END:VEVENT
BEGIN:VEVENT
DTSTART;TZID=Europe/London:20250303T173000
DTEND;TZID=Europe/London:20250303T190000
DTSTAMP:20260425T164547
CREATED:20250303T162506Z
LAST-MODIFIED:20250303T162506Z
UID:11322-1741023000-1741028400@tolworthurc.org.uk
SUMMARY:Pilots
DESCRIPTION:
URL:https://tolworthurc.org.uk/event/pilots-197/
LOCATION:Elgar Hall
CATEGORIES:Church Events
END:VEVENT
BEGIN:VEVENT
DTSTART;TZID=Europe/London:20250305T100000
DTEND;TZID=Europe/London:20250305T120000
DTSTAMP:20260425T164547
CREATED:20250303T163555Z
LAST-MODIFIED:20250303T163555Z
UID:11333-1741168800-1741176000@tolworthurc.org.uk
SUMMARY:Playtime
DESCRIPTION:
URL:https://tolworthurc.org.uk/event/playtime-193/
LOCATION:Raeburn Hall
CATEGORIES:Church Events
END:VEVENT
BEGIN:VEVENT
DTSTART;TZID=Europe/London:20250305T150000
DTEND;TZID=Europe/London:20250305T160000
DTSTAMP:20260425T164547
CREATED:20250303T164640Z
LAST-MODIFIED:20250303T164640Z
UID:11341-1741186800-1741190400@tolworthurc.org.uk
SUMMARY:Ash Wednesday service at Ewell URC
DESCRIPTION:
URL:https://tolworthurc.org.uk/event/ash-wednesday-service-at-ewell-urc/
CATEGORIES:Church Events
END:VEVENT
BEGIN:VEVENT
DTSTART;TZID=Europe/London:20250305T173000
DTEND;TZID=Europe/London:20250305T193000
DTSTAMP:20260425T164547
CREATED:20250310T155344Z
LAST-MODIFIED:20250310T155344Z
UID:11366-1741195800-1741203000@tolworthurc.org.uk
SUMMARY:Browni
DESCRIPTION:
URL:https://tolworthurc.org.uk/event/browni/
LOCATION:Elgar Hall
CATEGORIES:Church Events
END:VEVENT
BEGIN:VEVENT
DTSTART;TZID=Europe/London:20250307T170000
DTEND;TZID=Europe/London:20250307T183000
DTSTAMP:20260425T164547
CREATED:20250310T160215Z
LAST-MODIFIED:20250310T160215Z
UID:11374-1741366800-1741372200@tolworthurc.org.uk
SUMMARY:Rainbows
DESCRIPTION:
URL:https://tolworthurc.org.uk/event/rainbows-165/
LOCATION:Elgar Hall
CATEGORIES:Church Events
END:VEVENT
BEGIN:VEVENT
DTSTART;TZID=Europe/London:20250307T190000
DTEND;TZID=Europe/London:20250307T210000
DTSTAMP:20260425T164547
CREATED:20250310T161021Z
LAST-MODIFIED:20250310T161021Z
UID:11384-1741374000-1741381200@tolworthurc.org.uk
SUMMARY:Guides
DESCRIPTION:
URL:https://tolworthurc.org.uk/event/guides-171/
LOCATION:Elgar Hall
CATEGORIES:Church Events
END:VEVENT
BEGIN:VEVENT
DTSTART;TZID=Europe/London:20250309T103000
DTEND;TZID=Europe/London:20250309T113000
DTSTAMP:20260425T164547
CREATED:20250304T163323Z
LAST-MODIFIED:20250304T163323Z
UID:11345-1741516200-1741519800@tolworthurc.org.uk
SUMMARY:Morning Communion led by our Minister 03306060403 (Await instructions) Access code (Enter) 1529640# (Don’t forget the #) OR HTTPS://join.thefreeconferencecall.com/rjones
DESCRIPTION:
URL:https://tolworthurc.org.uk/event/morning-communion-led-by-our-minister-03306060403-await-instructions-access-code-enter-1529640-dont-forget-the-or-https-join-thefreeconferencecall-com-rjones-4/
LOCATION:Church
CATEGORIES:Church Events
END:VEVENT
BEGIN:VEVENT
DTSTART;TZID=Europe/London:20250310T173000
DTEND;TZID=Europe/London:20250310T190000
DTSTAMP:20260425T164547
CREATED:20250303T162646Z
LAST-MODIFIED:20250303T162646Z
UID:11324-1741627800-1741633200@tolworthurc.org.uk
SUMMARY:Pilots
DESCRIPTION:
URL:https://tolworthurc.org.uk/event/pilots-198/
LOCATION:Elgar Hall
CATEGORIES:Church Events
END:VEVENT
BEGIN:VEVENT
DTSTART;TZID=Europe/London:20250312T100000
DTEND;TZID=Europe/London:20250312T120000
DTSTAMP:20260425T164547
CREATED:20250303T163759Z
LAST-MODIFIED:20250303T163759Z
UID:11335-1741773600-1741780800@tolworthurc.org.uk
SUMMARY:Playtime
DESCRIPTION:
URL:https://tolworthurc.org.uk/event/playtime-194/
LOCATION:Raeburn Hall
CATEGORIES:Church Events
END:VEVENT
BEGIN:VEVENT
DTSTART;TZID=Europe/London:20250312T173000
DTEND;TZID=Europe/London:20250312T193000
DTSTAMP:20260425T164547
CREATED:20250310T155533Z
LAST-MODIFIED:20250310T155533Z
UID:11368-1741800600-1741807800@tolworthurc.org.uk
SUMMARY:Brownies
DESCRIPTION:
URL:https://tolworthurc.org.uk/event/brownies-164/
LOCATION:Elgar Hall
CATEGORIES:Church Events
END:VEVENT
BEGIN:VEVENT
DTSTART;TZID=Europe/London:20250314T170000
DTEND;TZID=Europe/London:20250314T183000
DTSTAMP:20260425T164547
CREATED:20250310T160401Z
LAST-MODIFIED:20250310T160401Z
UID:11376-1741971600-1741977000@tolworthurc.org.uk
SUMMARY:Rainbows
DESCRIPTION:
URL:https://tolworthurc.org.uk/event/rainbows-166/
LOCATION:Elgar Hall
CATEGORIES:Church Events
END:VEVENT
BEGIN:VEVENT
DTSTART;TZID=Europe/London:20250314T190000
DTEND;TZID=Europe/London:20250314T210000
DTSTAMP:20260425T164547
CREATED:20250310T161226Z
LAST-MODIFIED:20250310T161226Z
UID:11386-1741978800-1741986000@tolworthurc.org.uk
SUMMARY:Guides
DESCRIPTION:
URL:https://tolworthurc.org.uk/event/guides-172/
LOCATION:Elgar Hall
CATEGORIES:Church Events
END:VEVENT
BEGIN:VEVENT
DTSTART;TZID=Europe/London:20250316T103000
DTEND;TZID=Europe/London:20250316T113000
DTSTAMP:20260425T164547
CREATED:20250304T163649Z
LAST-MODIFIED:20250304T163649Z
UID:11347-1742121000-1742124600@tolworthurc.org.uk
SUMMARY:Morning Worship led by Mrs Katrina Clifford followed by Church meeting 03306060403 (Await instructions) Access code (Enter) 1529640# (Don’t forget the #) OR HTTPS://join.thefreeconferencecall.com/rjones
DESCRIPTION:
URL:https://tolworthurc.org.uk/event/morning-worship-led-by-mrs-katrina-clifford-followed-by-church-meeting-03306060403-await-instructions-access-code-enter-1529640-dont-forget-the-or-https-join-thefreeconferencecall/
LOCATION:Church
CATEGORIES:Church Events
END:VEVENT
BEGIN:VEVENT
DTSTART;TZID=Europe/London:20250316T183000
DTEND;TZID=Europe/London:20250316T193000
DTSTAMP:20260425T164547
CREATED:20250310T155118Z
LAST-MODIFIED:20250310T155118Z
UID:11364-1742149800-1742153400@tolworthurc.org.uk
SUMMARY:Evergreen Service
DESCRIPTION:
URL:https://tolworthurc.org.uk/event/evergreen-service-2/
LOCATION:Church
CATEGORIES:Church Events
END:VEVENT
BEGIN:VEVENT
DTSTART;TZID=Europe/London:20250317T173000
DTEND;TZID=Europe/London:20250317T190000
DTSTAMP:20260425T164547
CREATED:20250303T162835Z
LAST-MODIFIED:20250303T162835Z
UID:11326-1742232600-1742238000@tolworthurc.org.uk
SUMMARY:Pilots
DESCRIPTION:
URL:https://tolworthurc.org.uk/event/pilots-199/
LOCATION:Elgar Hall
CATEGORIES:Church Events
END:VEVENT
BEGIN:VEVENT
DTSTART;TZID=Europe/London:20250319T100000
DTEND;TZID=Europe/London:20250319T120000
DTSTAMP:20260425T164547
CREATED:20250303T163927Z
LAST-MODIFIED:20250303T163927Z
UID:11337-1742378400-1742385600@tolworthurc.org.uk
SUMMARY:Playtime
DESCRIPTION:
URL:https://tolworthurc.org.uk/event/playtime-195/
LOCATION:Raeburn Hall
CATEGORIES:Church Events
END:VEVENT
BEGIN:VEVENT
DTSTART;TZID=Europe/London:20250319T173000
DTEND;TZID=Europe/London:20250319T193000
DTSTAMP:20260425T164547
CREATED:20250310T155724Z
LAST-MODIFIED:20250310T155724Z
UID:11370-1742405400-1742412600@tolworthurc.org.uk
SUMMARY:Brownies
DESCRIPTION:
URL:https://tolworthurc.org.uk/event/brownies-165/
LOCATION:Elgar Hall
CATEGORIES:Church Events
END:VEVENT
BEGIN:VEVENT
DTSTART;TZID=Europe/London:20250320T153000
DTEND;TZID=Europe/London:20250320T170000
DTSTAMP:20260425T164547
CREATED:20250303T164840Z
LAST-MODIFIED:20250303T164840Z
UID:11343-1742484600-1742490000@tolworthurc.org.uk
SUMMARY:Messy Church
DESCRIPTION:
URL:https://tolworthurc.org.uk/event/messy-church-43/
LOCATION:Elgar Hall
CATEGORIES:Church Events
END:VEVENT
BEGIN:VEVENT
DTSTART;TZID=Europe/London:20250321T170000
DTEND;TZID=Europe/London:20250321T183000
DTSTAMP:20260425T164547
CREATED:20250310T160553Z
LAST-MODIFIED:20250310T160553Z
UID:11379-1742576400-1742581800@tolworthurc.org.uk
SUMMARY:Rainbows
DESCRIPTION:
URL:https://tolworthurc.org.uk/event/rainbows-167/
LOCATION:Elgar Hall
CATEGORIES:Church Events
END:VEVENT
BEGIN:VEVENT
DTSTART;TZID=Europe/London:20250321T190000
DTEND;TZID=Europe/London:20250321T210000
DTSTAMP:20260425T164547
CREATED:20250310T161357Z
LAST-MODIFIED:20250310T161748Z
UID:11388-1742583600-1742590800@tolworthurc.org.uk
SUMMARY:Guides
DESCRIPTION:
URL:https://tolworthurc.org.uk/event/guides-173/
LOCATION:Elgar Hall
CATEGORIES:Church Events
END:VEVENT
END:VCALENDAR