BEGIN:VCALENDAR
VERSION:2.0
PRODID:-//Tolworth United Reformed Church - ECPv6.15.20//NONSGML v1.0//EN
CALSCALE:GREGORIAN
METHOD:PUBLISH
X-WR-CALNAME:Tolworth United Reformed Church
X-ORIGINAL-URL:https://tolworthurc.org.uk
X-WR-CALDESC:Events for Tolworth United Reformed Church
REFRESH-INTERVAL;VALUE=DURATION:PT1H
X-Robots-Tag:noindex
X-PUBLISHED-TTL:PT1H
BEGIN:VTIMEZONE
TZID:Europe/London
BEGIN:DAYLIGHT
TZOFFSETFROM:+0000
TZOFFSETTO:+0100
TZNAME:BST
DTSTART:20240331T010000
END:DAYLIGHT
BEGIN:STANDARD
TZOFFSETFROM:+0100
TZOFFSETTO:+0000
TZNAME:GMT
DTSTART:20241027T010000
END:STANDARD
BEGIN:DAYLIGHT
TZOFFSETFROM:+0000
TZOFFSETTO:+0100
TZNAME:BST
DTSTART:20250330T010000
END:DAYLIGHT
BEGIN:STANDARD
TZOFFSETFROM:+0100
TZOFFSETTO:+0000
TZNAME:GMT
DTSTART:20251026T010000
END:STANDARD
BEGIN:DAYLIGHT
TZOFFSETFROM:+0000
TZOFFSETTO:+0100
TZNAME:BST
DTSTART:20260329T010000
END:DAYLIGHT
BEGIN:STANDARD
TZOFFSETFROM:+0100
TZOFFSETTO:+0000
TZNAME:GMT
DTSTART:20261025T010000
END:STANDARD
END:VTIMEZONE
BEGIN:VEVENT
DTSTART;TZID=Europe/London:20250108T173000
DTEND;TZID=Europe/London:20250108T193000
DTSTAMP:20260426T013610
CREATED:20250111T103948Z
LAST-MODIFIED:20250111T103948Z
UID:11229-1736357400-1736364600@tolworthurc.org.uk
SUMMARY:Brownies
DESCRIPTION:
URL:https://tolworthurc.org.uk/event/brownies-157/
LOCATION:Elgar Hall
CATEGORIES:Church Events
END:VEVENT
BEGIN:VEVENT
DTSTART;TZID=Europe/London:20250110T170000
DTEND;TZID=Europe/London:20250110T183000
DTSTAMP:20260426T013610
CREATED:20250111T105018Z
LAST-MODIFIED:20250111T105018Z
UID:11237-1736528400-1736533800@tolworthurc.org.uk
SUMMARY:Rainbows
DESCRIPTION:
URL:https://tolworthurc.org.uk/event/rainbows-159/
LOCATION:Elgar Hall
CATEGORIES:Church Events
END:VEVENT
BEGIN:VEVENT
DTSTART;TZID=Europe/London:20250110T190000
DTEND;TZID=Europe/London:20250110T210000
DTSTAMP:20260426T013610
CREATED:20250111T105724Z
LAST-MODIFIED:20250111T105724Z
UID:11245-1736535600-1736542800@tolworthurc.org.uk
SUMMARY:Guides
DESCRIPTION:
URL:https://tolworthurc.org.uk/event/guides-164/
LOCATION:Elgar Hall
CATEGORIES:Church Events
END:VEVENT
BEGIN:VEVENT
DTSTART;TZID=Europe/London:20250112T103000
DTEND;TZID=Europe/London:20250112T113000
DTSTAMP:20260426T013610
CREATED:20250102T154940Z
LAST-MODIFIED:20250102T154940Z
UID:11213-1736677800-1736681400@tolworthurc.org.uk
SUMMARY:Morning Communion led by our Minister floowed by Church Meeting 03306060403 (Await instructions) Access code (Enter) 1529640# (Don’t forget the #) OR HTTPS://join.thefreeconferencecall.com/rjones
DESCRIPTION:
URL:https://tolworthurc.org.uk/event/morning-communion-led-by-our-minister-floowed-by-church-meeting-03306060403-await-instructions-access-code-enter-1529640-dont-forget-the-or-https-join-thefreeconferencecall-com-rjo/
LOCATION:Church
CATEGORIES:Church Events
END:VEVENT
BEGIN:VEVENT
DTSTART;TZID=Europe/London:20250113T173000
DTEND;TZID=Europe/London:20250113T190000
DTSTAMP:20260426T013610
CREATED:20250102T153035Z
LAST-MODIFIED:20250102T153035Z
UID:11197-1736789400-1736794800@tolworthurc.org.uk
SUMMARY:Pilots
DESCRIPTION:
URL:https://tolworthurc.org.uk/event/pilots-191/
LOCATION:Elgar Hall
CATEGORIES:Church Events
END:VEVENT
BEGIN:VEVENT
DTSTART;TZID=Europe/London:20250115T100000
DTEND;TZID=Europe/London:20250115T120000
DTSTAMP:20260426T013610
CREATED:20250102T153550Z
LAST-MODIFIED:20250102T153550Z
UID:11203-1736935200-1736942400@tolworthurc.org.uk
SUMMARY:Playtime
DESCRIPTION:
URL:https://tolworthurc.org.uk/event/playtime-187/
LOCATION:Raeburn Hall
CATEGORIES:Church Events
END:VEVENT
BEGIN:VEVENT
DTSTART;TZID=Europe/London:20250115T173000
DTEND;TZID=Europe/London:20250115T193000
DTSTAMP:20260426T013610
CREATED:20250111T104410Z
LAST-MODIFIED:20250111T104410Z
UID:11231-1736962200-1736969400@tolworthurc.org.uk
SUMMARY:Brownies
DESCRIPTION:
URL:https://tolworthurc.org.uk/event/brownies-158/
LOCATION:Elgar Hall
CATEGORIES:Church Events
END:VEVENT
BEGIN:VEVENT
DTSTART;TZID=Europe/London:20250116T153000
DTEND;TZID=Europe/London:20250116T170000
DTSTAMP:20260426T013610
CREATED:20250102T154213Z
LAST-MODIFIED:20250102T154213Z
UID:11209-1737041400-1737046800@tolworthurc.org.uk
SUMMARY:Messy Church
DESCRIPTION:
URL:https://tolworthurc.org.uk/event/messy-church-41/
LOCATION:Elgar Hall
CATEGORIES:Church Events
END:VEVENT
BEGIN:VEVENT
DTSTART;TZID=Europe/London:20250117T170000
DTEND;TZID=Europe/London:20250117T183000
DTSTAMP:20260426T013610
CREATED:20250111T105156Z
LAST-MODIFIED:20250111T105156Z
UID:11239-1737133200-1737138600@tolworthurc.org.uk
SUMMARY:Rainbows
DESCRIPTION:
URL:https://tolworthurc.org.uk/event/rainbows-160/
LOCATION:Elgar Hall
CATEGORIES:Church Events
END:VEVENT
BEGIN:VEVENT
DTSTART;TZID=Europe/London:20250117T190000
DTEND;TZID=Europe/London:20250117T210000
DTSTAMP:20260426T013610
CREATED:20250111T105919Z
LAST-MODIFIED:20250111T105919Z
UID:11247-1737140400-1737147600@tolworthurc.org.uk
SUMMARY:Guides
DESCRIPTION:
URL:https://tolworthurc.org.uk/event/guides-165/
LOCATION:Elgar Hall
CATEGORIES:Church Events
END:VEVENT
BEGIN:VEVENT
DTSTART;TZID=Europe/London:20250119T103000
DTEND;TZID=Europe/London:20250119T113000
DTSTAMP:20260426T013610
CREATED:20250102T155244Z
LAST-MODIFIED:20250102T155244Z
UID:11216-1737282600-1737286200@tolworthurc.org.uk
SUMMARY:Morning Worship led by Mrs Linda Lambert 03306060403 (Await instructions) Access code (Enter) 1529640# (Don’t forget the #) OR HTTPS://join.thefreeconferencecall.com/rjones
DESCRIPTION:
URL:https://tolworthurc.org.uk/event/morning-worship-led-by-mrs-linda-lambert-03306060403-await-instructions-access-code-enter-1529640-dont-forget-the-or-https-join-thefreeconferencecall-com-rjones-6/
LOCATION:Church
CATEGORIES:Church Events
END:VEVENT
BEGIN:VEVENT
DTSTART;TZID=Europe/London:20250120T173000
DTEND;TZID=Europe/London:20250120T190000
DTSTAMP:20260426T013610
CREATED:20250102T153213Z
LAST-MODIFIED:20250102T153213Z
UID:11199-1737394200-1737399600@tolworthurc.org.uk
SUMMARY:Pilots
DESCRIPTION:
URL:https://tolworthurc.org.uk/event/pilots-192/
LOCATION:Elgar Hall
CATEGORIES:Church Events
END:VEVENT
BEGIN:VEVENT
DTSTART;TZID=Europe/London:20250122T100000
DTEND;TZID=Europe/London:20250122T120000
DTSTAMP:20260426T013610
CREATED:20250102T153739Z
LAST-MODIFIED:20250102T153739Z
UID:11205-1737540000-1737547200@tolworthurc.org.uk
SUMMARY:Playtime
DESCRIPTION:
URL:https://tolworthurc.org.uk/event/playtime-188/
LOCATION:Raeburn Hall
CATEGORIES:Church Events
END:VEVENT
BEGIN:VEVENT
DTSTART;TZID=Europe/London:20250122T173000
DTEND;TZID=Europe/London:20250122T193000
DTSTAMP:20260426T013610
CREATED:20250111T104546Z
LAST-MODIFIED:20250111T104546Z
UID:11233-1737567000-1737574200@tolworthurc.org.uk
SUMMARY:Brownies
DESCRIPTION:
URL:https://tolworthurc.org.uk/event/brownies-159/
LOCATION:Elgar Hall
CATEGORIES:Church Events
END:VEVENT
BEGIN:VEVENT
DTSTART;TZID=Europe/London:20250123T140000
DTEND;TZID=Europe/London:20250123T170000
DTSTAMP:20260426T013610
CREATED:20250102T154424Z
LAST-MODIFIED:20250102T154424Z
UID:11211-1737640800-1737651600@tolworthurc.org.uk
SUMMARY:Management Meeting
DESCRIPTION:
URL:https://tolworthurc.org.uk/event/management-meeting-2/
LOCATION:Elgar Hall
CATEGORIES:Church Events
END:VEVENT
BEGIN:VEVENT
DTSTART;TZID=Europe/London:20250124T170000
DTEND;TZID=Europe/London:20250124T183000
DTSTAMP:20260426T013610
CREATED:20250111T105333Z
LAST-MODIFIED:20250111T105333Z
UID:11241-1737738000-1737743400@tolworthurc.org.uk
SUMMARY:Rainbows
DESCRIPTION:
URL:https://tolworthurc.org.uk/event/rainbows-161/
LOCATION:Elgar Hall
CATEGORIES:Church Events
END:VEVENT
BEGIN:VEVENT
DTSTART;TZID=Europe/London:20250124T190000
DTEND;TZID=Europe/London:20250124T210000
DTSTAMP:20260426T013610
CREATED:20250111T110108Z
LAST-MODIFIED:20250111T110108Z
UID:11249-1737745200-1737752400@tolworthurc.org.uk
SUMMARY:Guides
DESCRIPTION:
URL:https://tolworthurc.org.uk/event/guides-166/
LOCATION:Elgar Hall
CATEGORIES:Church Events
END:VEVENT
BEGIN:VEVENT
DTSTART;TZID=Europe/London:20250126T103000
DTEND;TZID=Europe/London:20250126T113000
DTSTAMP:20260426T013610
CREATED:20250102T155558Z
LAST-MODIFIED:20250102T155558Z
UID:11218-1737887400-1737891000@tolworthurc.org.uk
SUMMARY:Morning Worship led by Mr Nick Mayhew-Smith 03306060403 (Await instructions) Access code (Enter) 1529640# (Don’t forget the #) OR HTTPS://join.thefreeconferencecall.com/rjones
DESCRIPTION:
URL:https://tolworthurc.org.uk/event/morning-worship-led-by-mr-nick-mayhew-smith-03306060403-await-instructions-access-code-enter-1529640-dont-forget-the-or-https-join-thefreeconferencecall-com-rjones/
LOCATION:Church
CATEGORIES:Church Events
END:VEVENT
BEGIN:VEVENT
DTSTART;TZID=Europe/London:20250127T173000
DTEND;TZID=Europe/London:20250127T190000
DTSTAMP:20260426T013610
CREATED:20250102T153341Z
LAST-MODIFIED:20250102T153341Z
UID:11201-1737999000-1738004400@tolworthurc.org.uk
SUMMARY:Pilots
DESCRIPTION:
URL:https://tolworthurc.org.uk/event/pilots-193/
LOCATION:Elgar Hall
CATEGORIES:Church Events
END:VEVENT
BEGIN:VEVENT
DTSTART;TZID=Europe/London:20250129T100000
DTEND;TZID=Europe/London:20250129T120000
DTSTAMP:20260426T013610
CREATED:20250102T153939Z
LAST-MODIFIED:20250102T153939Z
UID:11207-1738144800-1738152000@tolworthurc.org.uk
SUMMARY:Playtime
DESCRIPTION:
URL:https://tolworthurc.org.uk/event/playtime-189/
LOCATION:Raeburn Hall
CATEGORIES:Church Events
END:VEVENT
BEGIN:VEVENT
DTSTART;TZID=Europe/London:20250129T173000
DTEND;TZID=Europe/London:20250129T193000
DTSTAMP:20260426T013610
CREATED:20250111T104742Z
LAST-MODIFIED:20250111T104742Z
UID:11235-1738171800-1738179000@tolworthurc.org.uk
SUMMARY:Brownies
DESCRIPTION:
URL:https://tolworthurc.org.uk/event/brownies-160/
LOCATION:Elgar Hall
CATEGORIES:Church Events
END:VEVENT
BEGIN:VEVENT
DTSTART;TZID=Europe/London:20250131T170000
DTEND;TZID=Europe/London:20250131T183000
DTSTAMP:20260426T013610
CREATED:20250111T105510Z
LAST-MODIFIED:20250111T105510Z
UID:11243-1738342800-1738348200@tolworthurc.org.uk
SUMMARY:Rainbows
DESCRIPTION:
URL:https://tolworthurc.org.uk/event/rainbows-162/
LOCATION:Elgar Hall
CATEGORIES:Church Events
END:VEVENT
BEGIN:VEVENT
DTSTART;TZID=Europe/London:20250131T190000
DTEND;TZID=Europe/London:20250131T210000
DTSTAMP:20260426T013610
CREATED:20250111T110258Z
LAST-MODIFIED:20250111T110258Z
UID:11251-1738350000-1738357200@tolworthurc.org.uk
SUMMARY:Guides
DESCRIPTION:
URL:https://tolworthurc.org.uk/event/guides-167/
LOCATION:Elgar Hall
CATEGORIES:Church Events
END:VEVENT
BEGIN:VEVENT
DTSTART;TZID=Europe/London:20250202T103000
DTEND;TZID=Europe/London:20250202T113000
DTSTAMP:20260426T013610
CREATED:20250102T155842Z
LAST-MODIFIED:20250102T155842Z
UID:11221-1738492200-1738495800@tolworthurc.org.uk
SUMMARY:Morning Worship led by Mrs Linda Lambert 03306060403 (Await instructions) Access code (Enter) 1529640# (Don’t forget the #) OR HTTPS://join.thefreeconferencecall.com/rjones
DESCRIPTION:
URL:https://tolworthurc.org.uk/event/morning-worship-led-by-mrs-linda-lambert-03306060403-await-instructions-access-code-enter-1529640-dont-forget-the-or-https-join-thefreeconferencecall-com-rjones-7/
LOCATION:Church
CATEGORIES:Church Events
END:VEVENT
BEGIN:VEVENT
DTSTART;TZID=Europe/London:20250203T173000
DTEND;TZID=Europe/London:20250203T190000
DTSTAMP:20260426T013610
CREATED:20250211T203721Z
LAST-MODIFIED:20250211T203721Z
UID:11269-1738603800-1738609200@tolworthurc.org.uk
SUMMARY:Pilots
DESCRIPTION:
URL:https://tolworthurc.org.uk/event/pilots-194/
LOCATION:Elgar Hall
CATEGORIES:Church Events
END:VEVENT
BEGIN:VEVENT
DTSTART;TZID=Europe/London:20250205T100000
DTEND;TZID=Europe/London:20250205T120000
DTSTAMP:20260426T013610
CREATED:20250211T204410Z
LAST-MODIFIED:20250211T205736Z
UID:11275-1738749600-1738756800@tolworthurc.org.uk
SUMMARY:Playtime
DESCRIPTION:
URL:https://tolworthurc.org.uk/event/playtime-190/
LOCATION:Raeburn Hall
CATEGORIES:Church Events
END:VEVENT
BEGIN:VEVENT
DTSTART;TZID=Europe/London:20250205T173000
DTEND;TZID=Europe/London:20250205T193000
DTSTAMP:20260426T013610
CREATED:20250215T211529Z
LAST-MODIFIED:20250215T211529Z
UID:11294-1738776600-1738783800@tolworthurc.org.uk
SUMMARY:Brownies
DESCRIPTION:
URL:https://tolworthurc.org.uk/event/brownies-161/
LOCATION:Elgar Hall
CATEGORIES:Church Events
END:VEVENT
BEGIN:VEVENT
DTSTART;TZID=Europe/London:20250207T170000
DTEND;TZID=Europe/London:20250207T183000
DTSTAMP:20260426T013610
CREATED:20250215T212303Z
LAST-MODIFIED:20250215T212303Z
UID:11300-1738947600-1738953000@tolworthurc.org.uk
SUMMARY:Rainbows
DESCRIPTION:
URL:https://tolworthurc.org.uk/event/rainbows-163/
LOCATION:Elgar Hall
CATEGORIES:Church Events
END:VEVENT
BEGIN:VEVENT
DTSTART;TZID=Europe/London:20250207T190000
DTEND;TZID=Europe/London:20250207T210000
DTSTAMP:20260426T013610
CREATED:20250215T212947Z
LAST-MODIFIED:20250215T212947Z
UID:11306-1738954800-1738962000@tolworthurc.org.uk
SUMMARY:Guides
DESCRIPTION:
URL:https://tolworthurc.org.uk/event/guides-168/
LOCATION:Elgar Hall
CATEGORIES:Church Events
END:VEVENT
BEGIN:VEVENT
DTSTART;TZID=Europe/London:20250209T103000
DTEND;TZID=Europe/London:20250209T113000
DTSTAMP:20260426T013610
CREATED:20250211T210507Z
LAST-MODIFIED:20250211T210507Z
UID:11286-1739097000-1739100600@tolworthurc.org.uk
SUMMARY:Morning Worship led by Ms Heather Lodge 03306060403 (Await instructions) Access code (Enter) 1529640# (Don’t forget the #) OR HTTPS://join.thefreeconferencecall.com/rjones
DESCRIPTION:
URL:https://tolworthurc.org.uk/event/morning-worship-led-by-ms-heather-lodge-03306060403-await-instructions-access-code-enter-1529640-dont-forget-the-or-https-join-thefreeconferencecall-com-rjones-6/
LOCATION:Church
CATEGORIES:Church Events
END:VEVENT
END:VCALENDAR