BEGIN:VCALENDAR
VERSION:2.0
PRODID:-//Tolworth United Reformed Church - ECPv6.15.20//NONSGML v1.0//EN
CALSCALE:GREGORIAN
METHOD:PUBLISH
X-WR-CALNAME:Tolworth United Reformed Church
X-ORIGINAL-URL:https://tolworthurc.org.uk
X-WR-CALDESC:Events for Tolworth United Reformed Church
REFRESH-INTERVAL;VALUE=DURATION:PT1H
X-Robots-Tag:noindex
X-PUBLISHED-TTL:PT1H
BEGIN:VTIMEZONE
TZID:Europe/London
BEGIN:DAYLIGHT
TZOFFSETFROM:+0000
TZOFFSETTO:+0100
TZNAME:BST
DTSTART:20240331T010000
END:DAYLIGHT
BEGIN:STANDARD
TZOFFSETFROM:+0100
TZOFFSETTO:+0000
TZNAME:GMT
DTSTART:20241027T010000
END:STANDARD
BEGIN:DAYLIGHT
TZOFFSETFROM:+0000
TZOFFSETTO:+0100
TZNAME:BST
DTSTART:20250330T010000
END:DAYLIGHT
BEGIN:STANDARD
TZOFFSETFROM:+0100
TZOFFSETTO:+0000
TZNAME:GMT
DTSTART:20251026T010000
END:STANDARD
BEGIN:DAYLIGHT
TZOFFSETFROM:+0000
TZOFFSETTO:+0100
TZNAME:BST
DTSTART:20260329T010000
END:DAYLIGHT
BEGIN:STANDARD
TZOFFSETFROM:+0100
TZOFFSETTO:+0000
TZNAME:GMT
DTSTART:20261025T010000
END:STANDARD
END:VTIMEZONE
BEGIN:VEVENT
DTSTART;TZID=Europe/London:20250324T173000
DTEND;TZID=Europe/London:20250324T190000
DTSTAMP:20260425T174722
CREATED:20250303T163010Z
LAST-MODIFIED:20250303T163010Z
UID:11329-1742837400-1742842800@tolworthurc.org.uk
SUMMARY:Pilots
DESCRIPTION:
URL:https://tolworthurc.org.uk/event/pilots-200/
LOCATION:Elgar Hall
CATEGORIES:Church Events
END:VEVENT
BEGIN:VEVENT
DTSTART;TZID=Europe/London:20250326T100000
DTEND;TZID=Europe/London:20250326T120000
DTSTAMP:20260425T174722
CREATED:20250303T164121Z
LAST-MODIFIED:20250303T164121Z
UID:11339-1742983200-1742990400@tolworthurc.org.uk
SUMMARY:Playtime
DESCRIPTION:
URL:https://tolworthurc.org.uk/event/playtime-196/
LOCATION:Raeburn Hall
CATEGORIES:Church Events
END:VEVENT
BEGIN:VEVENT
DTSTART;TZID=Europe/London:20250326T173000
DTEND;TZID=Europe/London:20250326T193000
DTSTAMP:20260425T174722
CREATED:20250310T155923Z
LAST-MODIFIED:20250310T155923Z
UID:11372-1743010200-1743017400@tolworthurc.org.uk
SUMMARY:Brownies
DESCRIPTION:
URL:https://tolworthurc.org.uk/event/brownies-166/
LOCATION:Elgar Hall
CATEGORIES:Church Events
END:VEVENT
BEGIN:VEVENT
DTSTART;TZID=Europe/London:20250328T170000
DTEND;TZID=Europe/London:20250328T183000
DTSTAMP:20260425T174722
CREATED:20250310T160746Z
LAST-MODIFIED:20250310T160746Z
UID:11382-1743181200-1743186600@tolworthurc.org.uk
SUMMARY:Rainbows
DESCRIPTION:
URL:https://tolworthurc.org.uk/event/rainbows-168/
LOCATION:Elgar Hall
CATEGORIES:Church Events
END:VEVENT
BEGIN:VEVENT
DTSTART;TZID=Europe/London:20250328T190000
DTEND;TZID=Europe/London:20250328T210000
DTSTAMP:20260425T174722
CREATED:20250310T161545Z
LAST-MODIFIED:20250310T161545Z
UID:11390-1743188400-1743195600@tolworthurc.org.uk
SUMMARY:Guides
DESCRIPTION:
URL:https://tolworthurc.org.uk/event/guides-174/
LOCATION:Elgar Hall
CATEGORIES:Church Events
END:VEVENT
BEGIN:VEVENT
DTSTART;TZID=Europe/London:20250330T103000
DTEND;TZID=Europe/London:20250330T113000
DTSTAMP:20260425T174722
CREATED:20250304T164247Z
LAST-MODIFIED:20250304T164247Z
UID:11351-1743330600-1743334200@tolworthurc.org.uk
SUMMARY:Mothering Sunday;  Morning Worship led by RevGraham Cockling 03306060403 (Await instructions) Access code (Enter) 1529640# (Don’t forget the #) OR HTTPS://join.thefreeconferencecall.com/rjones
DESCRIPTION:
URL:https://tolworthurc.org.uk/event/mothering-sunday-morning-worship-led-by-revgraham-cockling-03306060403-await-instructions-access-code-enter-1529640-dont-forget-the-or-https-join-thefreeconferencecall-com-rjones/
LOCATION:Church
CATEGORIES:Church Events
END:VEVENT
BEGIN:VEVENT
DTSTART;TZID=Europe/London:20250331T173000
DTEND;TZID=Europe/London:20250331T190000
DTSTAMP:20260425T174722
CREATED:20250303T163139Z
LAST-MODIFIED:20250303T163139Z
UID:11331-1743442200-1743447600@tolworthurc.org.uk
SUMMARY:Pilots
DESCRIPTION:
URL:https://tolworthurc.org.uk/event/pilots-201/
LOCATION:Elgar Hall
CATEGORIES:Church Events
END:VEVENT
BEGIN:VEVENT
DTSTART;TZID=Europe/London:20250402T100000
DTEND;TZID=Europe/London:20250402T120000
DTSTAMP:20260425T174722
CREATED:20250408T171358Z
LAST-MODIFIED:20250408T171358Z
UID:11412-1743588000-1743595200@tolworthurc.org.uk
SUMMARY:Playtime
DESCRIPTION:
URL:https://tolworthurc.org.uk/event/playtime-197/
LOCATION:Raeburn Hall
CATEGORIES:Church Events
END:VEVENT
BEGIN:VEVENT
DTSTART;TZID=Europe/London:20250402T173000
DTEND;TZID=Europe/London:20250402T193000
DTSTAMP:20260425T174722
CREATED:20250409T173432Z
LAST-MODIFIED:20250409T173432Z
UID:11442-1743615000-1743622200@tolworthurc.org.uk
SUMMARY:Brownies
DESCRIPTION:
URL:https://tolworthurc.org.uk/event/brownies-167/
LOCATION:Elgar Hall
CATEGORIES:Church Events
END:VEVENT
BEGIN:VEVENT
DTSTART;TZID=Europe/London:20250404T170000
DTEND;TZID=Europe/London:20250404T183000
DTSTAMP:20260425T174722
CREATED:20250409T174312Z
LAST-MODIFIED:20250409T174312Z
UID:11450-1743786000-1743791400@tolworthurc.org.uk
SUMMARY:Rainbows
DESCRIPTION:
URL:https://tolworthurc.org.uk/event/rainbows-169/
LOCATION:Elgar Hall
CATEGORIES:Church Events
END:VEVENT
BEGIN:VEVENT
DTSTART;TZID=Europe/London:20250404T190000
DTEND;TZID=Europe/London:20250404T210000
DTSTAMP:20260425T174722
CREATED:20250409T174700Z
LAST-MODIFIED:20250409T174700Z
UID:11455-1743793200-1743800400@tolworthurc.org.uk
SUMMARY:Guides
DESCRIPTION:
URL:https://tolworthurc.org.uk/event/guides-175/
LOCATION:Elgar Hall
CATEGORIES:Church Events
END:VEVENT
BEGIN:VEVENT
DTSTART;TZID=Europe/London:20250406T103000
DTEND;TZID=Europe/London:20250406T113000
DTSTAMP:20260425T174722
CREATED:20250304T164541Z
LAST-MODIFIED:20250304T164541Z
UID:11353-1743935400-1743939000@tolworthurc.org.uk
SUMMARY:Morning Worship led by Ms Heather Lodge 03306060403 (Await instructions) Access code (Enter) 1529640# (Don’t forget the #) OR HTTPS://join.thefreeconferencecall.com/rjones
DESCRIPTION:
URL:https://tolworthurc.org.uk/event/morning-worship-led-by-ms-heather-lodge-03306060403-await-instructions-access-code-enter-1529640-dont-forget-the-or-https-join-thefreeconferencecall-com-rjones-8/
LOCATION:Church
CATEGORIES:Church Events
END:VEVENT
BEGIN:VEVENT
DTSTART;TZID=Europe/London:20250408T143000
DTEND;TZID=Europe/London:20250408T170000
DTSTAMP:20260425T174722
CREATED:20250408T172031Z
LAST-MODIFIED:20250408T172031Z
UID:11418-1744122600-1744131600@tolworthurc.org.uk
SUMMARY:Elder's Meeting
DESCRIPTION:
URL:https://tolworthurc.org.uk/event/elders-meeting-39/
LOCATION:Elgar Hall
CATEGORIES:Church Events
END:VEVENT
BEGIN:VEVENT
DTSTART;TZID=Europe/London:20250413T103000
DTEND;TZID=Europe/London:20250413T113000
DTSTAMP:20260425T174722
CREATED:20250408T173719Z
LAST-MODIFIED:20250408T174009Z
UID:11428-1744540200-1744543800@tolworthurc.org.uk
SUMMARY:Palm Sunday Morning Worship - Food collection led by our Minister 03306060403 (Await instructions) Access code (Enter) 1529640# (Don’t forget the #) OR HTTPS://join.thefreeconferencecall.com/rjones
DESCRIPTION:
URL:https://tolworthurc.org.uk/event/morning-worship-food-collection-led-by-our-minister-03306060403-await-instructions-access-code-enter-1529640-dont-forget-the-or-https-join-thefreeconferencecall-com-rjones/
LOCATION:Church
CATEGORIES:Church Events
END:VEVENT
BEGIN:VEVENT
DTSTART;TZID=Europe/London:20250417T193000
DTEND;TZID=Europe/London:20250417T203000
DTSTAMP:20260425T174722
CREATED:20250408T172317Z
LAST-MODIFIED:20250408T172317Z
UID:11420-1744918200-1744921800@tolworthurc.org.uk
SUMMARY:Temebrae Service at Surbiton Hill Methodist Church
DESCRIPTION:
URL:https://tolworthurc.org.uk/event/temebrae-service-at-surbiton-hill-methodist-church/
CATEGORIES:Church Events
END:VEVENT
BEGIN:VEVENT
DTSTART;TZID=Europe/London:20250418T100000
DTEND;TZID=Europe/London:20250418T110000
DTSTAMP:20260425T174722
CREATED:20250408T172646Z
LAST-MODIFIED:20250408T172646Z
UID:11422-1744970400-1744974000@tolworthurc.org.uk
SUMMARY:Good Friday service at Surbiton Hill Methodist Church
DESCRIPTION:
URL:https://tolworthurc.org.uk/event/good-friday-service-at-surbiton-hill-methodist-church-2/
CATEGORIES:Church Events
END:VEVENT
BEGIN:VEVENT
DTSTART;TZID=Europe/London:20250420T103000
DTEND;TZID=Europe/London:20250420T113000
DTSTAMP:20260425T174722
CREATED:20250408T174456Z
LAST-MODIFIED:20250408T174456Z
UID:11433-1745145000-1745148600@tolworthurc.org.uk
SUMMARY:Easter Day Morning Communion led by Revd Barbara Pearson 03306060403 (Await instructions) Access code (Enter) 1529640# (Don’t forget the #) OR HTTPS://join.thefreeconferencecall.com/rjones
DESCRIPTION:
URL:https://tolworthurc.org.uk/event/easter-day-morning-communion-led-by-revd-barbara-pearson-03306060403-await-instructions-access-code-enter-1529640-dont-forget-the-or-https-join-thefreeconferencecall-com-rjones/
LOCATION:Church
CATEGORIES:Church Events
END:VEVENT
BEGIN:VEVENT
DTSTART;TZID=Europe/London:20250423T100000
DTEND;TZID=Europe/London:20250423T120000
DTSTAMP:20260425T174722
CREATED:20250408T171623Z
LAST-MODIFIED:20250408T171623Z
UID:11414-1745402400-1745409600@tolworthurc.org.uk
SUMMARY:Playtime
DESCRIPTION:
URL:https://tolworthurc.org.uk/event/playtime-198/
LOCATION:Raeburn Hall
CATEGORIES:Church Events
END:VEVENT
BEGIN:VEVENT
DTSTART;TZID=Europe/London:20250423T173000
DTEND;TZID=Europe/London:20250423T193000
DTSTAMP:20260425T174722
CREATED:20250409T173653Z
LAST-MODIFIED:20250409T173653Z
UID:11445-1745429400-1745436600@tolworthurc.org.uk
SUMMARY:Brownies
DESCRIPTION:
URL:https://tolworthurc.org.uk/event/brownies-168/
LOCATION:Elgar Hall
CATEGORIES:Church Events
END:VEVENT
BEGIN:VEVENT
DTSTART;TZID=Europe/London:20250424T153000
DTEND;TZID=Europe/London:20250424T170000
DTSTAMP:20260425T174722
CREATED:20250408T172942Z
LAST-MODIFIED:20250408T172942Z
UID:11424-1745508600-1745514000@tolworthurc.org.uk
SUMMARY:Messy Church Easter Fun Day
DESCRIPTION:
URL:https://tolworthurc.org.uk/event/messy-church-easter-fun-day/
LOCATION:Elgar Hall
CATEGORIES:Church Events
END:VEVENT
BEGIN:VEVENT
DTSTART;TZID=Europe/London:20250425T170000
DTEND;TZID=Europe/London:20250425T183000
DTSTAMP:20260425T174722
CREATED:20250409T174457Z
LAST-MODIFIED:20250409T174457Z
UID:11453-1745600400-1745605800@tolworthurc.org.uk
SUMMARY:Rainbows
DESCRIPTION:
URL:https://tolworthurc.org.uk/event/rainbows-170/
LOCATION:Elgar Hall
CATEGORIES:Church Events
END:VEVENT
BEGIN:VEVENT
DTSTART;TZID=Europe/London:20250425T190000
DTEND;TZID=Europe/London:20250425T210000
DTSTAMP:20260425T174722
CREATED:20250409T174849Z
LAST-MODIFIED:20250409T174849Z
UID:11457-1745607600-1745614800@tolworthurc.org.uk
SUMMARY:Guides
DESCRIPTION:
URL:https://tolworthurc.org.uk/event/guides-176/
LOCATION:Elgar Hall
CATEGORIES:Church Events
END:VEVENT
BEGIN:VEVENT
DTSTART;TZID=Europe/London:20250427T103000
DTEND;TZID=Europe/London:20250427T113000
DTSTAMP:20260425T174722
CREATED:20250408T174740Z
LAST-MODIFIED:20250408T174740Z
UID:11435-1745749800-1745753400@tolworthurc.org.uk
SUMMARY:Morning Worship led by our Minister 03306060403 (Await instructions) Access code (Enter) 1529640# (Don’t forget the #) OR HTTPS://join.thefreeconferencecall.com/rjones
DESCRIPTION:
URL:https://tolworthurc.org.uk/event/morning-worship-led-by-our-minister-03306060403-await-instructions-access-code-enter-1529640-dont-forget-the-or-https-join-thefreeconferencecall-com-rjones-10/
LOCATION:Church
CATEGORIES:Church Events
END:VEVENT
BEGIN:VEVENT
DTSTART;TZID=Europe/London:20250427T183000
DTEND;TZID=Europe/London:20250427T193000
DTSTAMP:20260425T174722
CREATED:20250409T173101Z
LAST-MODIFIED:20250409T173101Z
UID:11439-1745778600-1745782200@tolworthurc.org.uk
SUMMARY:Evergreen Service
DESCRIPTION:
URL:https://tolworthurc.org.uk/event/evergreen-service-3/
LOCATION:Church
CATEGORIES:Church Events
END:VEVENT
BEGIN:VEVENT
DTSTART;TZID=Europe/London:20250428T173000
DTEND;TZID=Europe/London:20250428T173000
DTSTAMP:20260425T174722
CREATED:20250408T173141Z
LAST-MODIFIED:20250408T173141Z
UID:11426-1745861400-1745861400@tolworthurc.org.uk
SUMMARY:Pilots
DESCRIPTION:
URL:https://tolworthurc.org.uk/event/pilots-202/
LOCATION:Elgar Hall
CATEGORIES:Church Events
END:VEVENT
BEGIN:VEVENT
DTSTART;TZID=Europe/London:20250430T100000
DTEND;TZID=Europe/London:20250430T120000
DTSTAMP:20260425T174722
CREATED:20250408T171750Z
LAST-MODIFIED:20250408T171750Z
UID:11416-1746007200-1746014400@tolworthurc.org.uk
SUMMARY:Playtime
DESCRIPTION:
URL:https://tolworthurc.org.uk/event/playtime-199/
LOCATION:Raeburn Hall
CATEGORIES:Church Events
END:VEVENT
BEGIN:VEVENT
DTSTART;TZID=Europe/London:20250430T173000
DTEND;TZID=Europe/London:20250430T193000
DTSTAMP:20260425T174722
CREATED:20250409T174000Z
LAST-MODIFIED:20250409T174000Z
UID:11448-1746034200-1746041400@tolworthurc.org.uk
SUMMARY:Brownies
DESCRIPTION:
URL:https://tolworthurc.org.uk/event/brownies-169/
LOCATION:Elgar Hall
CATEGORIES:Church Events
END:VEVENT
BEGIN:VEVENT
DTSTART;TZID=Europe/London:20250502T170000
DTEND;TZID=Europe/London:20250502T183000
DTSTAMP:20260425T174722
CREATED:20250514T172603Z
LAST-MODIFIED:20250514T172603Z
UID:11503-1746205200-1746210600@tolworthurc.org.uk
SUMMARY:Rainbows
DESCRIPTION:
URL:https://tolworthurc.org.uk/event/rainbows-171/
LOCATION:Elgar Hall
CATEGORIES:Church Events
END:VEVENT
BEGIN:VEVENT
DTSTART;TZID=Europe/London:20250502T190000
DTEND;TZID=Europe/London:20250502T210000
DTSTAMP:20260425T174722
CREATED:20250514T173446Z
LAST-MODIFIED:20250514T173446Z
UID:11512-1746212400-1746219600@tolworthurc.org.uk
SUMMARY:Guides
DESCRIPTION:
URL:https://tolworthurc.org.uk/event/guides-177/
LOCATION:Elgar Hall
CATEGORIES:Church Events
END:VEVENT
BEGIN:VEVENT
DTSTART;TZID=Europe/London:20250504T103000
DTEND;TZID=Europe/London:20250504T113000
DTSTAMP:20260425T174722
CREATED:20250408T175033Z
LAST-MODIFIED:20250408T175033Z
UID:11437-1746354600-1746358200@tolworthurc.org.uk
SUMMARY:Morning Worship led by Mark Dennis 03306060403 (Await instructions) Access code (Enter) 1529640# (Don’t forget the #) OR HTTPS://join.thefreeconferencecall.com/rjones
DESCRIPTION:
URL:https://tolworthurc.org.uk/event/morning-worship-led-by-mark-dennis-03306060403-await-instructions-access-code-enter-1529640-dont-forget-the-or-https-join-thefreeconferencecall-com-rjones/
LOCATION:Church
CATEGORIES:Church Events
END:VEVENT
END:VCALENDAR