BEGIN:VCALENDAR
VERSION:2.0
PRODID:-//Tolworth United Reformed Church - ECPv6.15.20//NONSGML v1.0//EN
CALSCALE:GREGORIAN
METHOD:PUBLISH
X-ORIGINAL-URL:https://tolworthurc.org.uk
X-WR-CALDESC:Events for Tolworth United Reformed Church
REFRESH-INTERVAL;VALUE=DURATION:PT1H
X-Robots-Tag:noindex
X-PUBLISHED-TTL:PT1H
BEGIN:VTIMEZONE
TZID:Europe/London
BEGIN:DAYLIGHT
TZOFFSETFROM:+0000
TZOFFSETTO:+0100
TZNAME:BST
DTSTART:20240331T010000
END:DAYLIGHT
BEGIN:STANDARD
TZOFFSETFROM:+0100
TZOFFSETTO:+0000
TZNAME:GMT
DTSTART:20241027T010000
END:STANDARD
BEGIN:DAYLIGHT
TZOFFSETFROM:+0000
TZOFFSETTO:+0100
TZNAME:BST
DTSTART:20250330T010000
END:DAYLIGHT
BEGIN:STANDARD
TZOFFSETFROM:+0100
TZOFFSETTO:+0000
TZNAME:GMT
DTSTART:20251026T010000
END:STANDARD
BEGIN:DAYLIGHT
TZOFFSETFROM:+0000
TZOFFSETTO:+0100
TZNAME:BST
DTSTART:20260329T010000
END:DAYLIGHT
BEGIN:STANDARD
TZOFFSETFROM:+0100
TZOFFSETTO:+0000
TZNAME:GMT
DTSTART:20261025T010000
END:STANDARD
END:VTIMEZONE
BEGIN:VEVENT
DTSTART;TZID=Europe/London:20250622T120000
DTEND;TZID=Europe/London:20250622T150000
DTSTAMP:20260425T163934
CREATED:20250607T153756Z
LAST-MODIFIED:20250607T153756Z
UID:11555-1750593600-1750604400@tolworthurc.org.uk
SUMMARY:Elder's Meeting
DESCRIPTION:
URL:https://tolworthurc.org.uk/event/elders-meeting-40/
LOCATION:Elgar Hall
CATEGORIES:Church Events
END:VEVENT
BEGIN:VEVENT
DTSTART;TZID=Europe/London:20250623T173000
DTEND;TZID=Europe/London:20250623T193000
DTSTAMP:20260425T163934
CREATED:20250607T151612Z
LAST-MODIFIED:20250607T151612Z
UID:11539-1750699800-1750707000@tolworthurc.org.uk
SUMMARY:Pilots
DESCRIPTION:
URL:https://tolworthurc.org.uk/event/pilots-208/
LOCATION:Elgar Hall
CATEGORIES:Church Events
END:VEVENT
BEGIN:VEVENT
DTSTART;TZID=Europe/London:20250625T100000
DTEND;TZID=Europe/London:20250625T120000
DTSTAMP:20260425T163934
CREATED:20250607T153136Z
LAST-MODIFIED:20250607T153136Z
UID:11551-1750845600-1750852800@tolworthurc.org.uk
SUMMARY:Playtime
DESCRIPTION:
URL:https://tolworthurc.org.uk/event/playtime-206/
LOCATION:Raeburn Hall
CATEGORIES:Church Events
END:VEVENT
BEGIN:VEVENT
DTSTART;TZID=Europe/London:20250625T173000
DTEND;TZID=Europe/London:20250625T193000
DTSTAMP:20260425T163934
CREATED:20250709T193117Z
LAST-MODIFIED:20250709T193117Z
UID:11630-1750872600-1750879800@tolworthurc.org.uk
SUMMARY:Brownies
DESCRIPTION:
URL:https://tolworthurc.org.uk/event/brownies-176/
LOCATION:Elgar Hall
CATEGORIES:Church Events
END:VEVENT
BEGIN:VEVENT
DTSTART;TZID=Europe/London:20250627T170000
DTEND;TZID=Europe/London:20250627T183000
DTSTAMP:20260425T163934
CREATED:20250709T194640Z
LAST-MODIFIED:20250709T194640Z
UID:11646-1751043600-1751049000@tolworthurc.org.uk
SUMMARY:Rainbows
DESCRIPTION:
URL:https://tolworthurc.org.uk/event/rainbows-178/
LOCATION:Elgar Hall
CATEGORIES:Church Events
END:VEVENT
BEGIN:VEVENT
DTSTART;TZID=Europe/London:20250627T190000
DTEND;TZID=Europe/London:20250627T210000
DTSTAMP:20260425T163934
CREATED:20250709T200038Z
LAST-MODIFIED:20250709T200038Z
UID:11660-1751050800-1751058000@tolworthurc.org.uk
SUMMARY:Guides
DESCRIPTION:
URL:https://tolworthurc.org.uk/event/guides-184/
LOCATION:Elgar Hall
CATEGORIES:Church Events
END:VEVENT
BEGIN:VEVENT
DTSTART;TZID=Europe/London:20250629T103000
DTEND;TZID=Europe/London:20250629T113000
DTSTAMP:20260425T163934
CREATED:20250607T201110Z
LAST-MODIFIED:20250607T201110Z
UID:11565-1751193000-1751196600@tolworthurc.org.uk
SUMMARY:Morning Worship led by our Minister  03306060403 (Await instructions) Access code (Enter) 1529640# (Don’t forget the #) OR HTTPS://join.thefreeconferencecall.com/rjones
DESCRIPTION:
URL:https://tolworthurc.org.uk/event/morning-worship-led-by-our-minister-03306060403-await-instructions-access-code-enter-1529640-dont-forget-the-or-https-join-thefreeconferencecall-com-rjones-12/
LOCATION:Church
CATEGORIES:Church Events
END:VEVENT
BEGIN:VEVENT
DTSTART;TZID=Europe/London:20250630T173000
DTEND;TZID=Europe/London:20250630T193000
DTSTAMP:20260425T163934
CREATED:20250607T151752Z
LAST-MODIFIED:20250607T151752Z
UID:11541-1751304600-1751311800@tolworthurc.org.uk
SUMMARY:Pilots
DESCRIPTION:
URL:https://tolworthurc.org.uk/event/pilots-209/
LOCATION:Elgar Hall
CATEGORIES:Church Events
END:VEVENT
BEGIN:VEVENT
DTSTART;TZID=Europe/London:20250702T100000
DTEND;TZID=Europe/London:20250702T120000
DTSTAMP:20260425T163934
CREATED:20250708T172319Z
LAST-MODIFIED:20250708T172319Z
UID:11585-1751450400-1751457600@tolworthurc.org.uk
SUMMARY:Playtime
DESCRIPTION:
URL:https://tolworthurc.org.uk/event/playtime-207/
LOCATION:Raeburn Hall
CATEGORIES:Church Events
END:VEVENT
BEGIN:VEVENT
DTSTART;TZID=Europe/London:20250702T173000
DTEND;TZID=Europe/London:20250702T193000
DTSTAMP:20260425T163934
CREATED:20250709T193309Z
LAST-MODIFIED:20250709T193309Z
UID:11632-1751477400-1751484600@tolworthurc.org.uk
SUMMARY:Brownies
DESCRIPTION:
URL:https://tolworthurc.org.uk/event/brownies-177/
LOCATION:Elgar Hall
CATEGORIES:Church Events
END:VEVENT
BEGIN:VEVENT
DTSTART;TZID=Europe/London:20250704T170000
DTEND;TZID=Europe/London:20250704T183000
DTSTAMP:20260425T163934
CREATED:20250709T194823Z
LAST-MODIFIED:20250709T194823Z
UID:11648-1751648400-1751653800@tolworthurc.org.uk
SUMMARY:Rainbows
DESCRIPTION:
URL:https://tolworthurc.org.uk/event/rainbows-179/
LOCATION:Elgar Hall
CATEGORIES:Church Events
END:VEVENT
BEGIN:VEVENT
DTSTART;TZID=Europe/London:20250704T190000
DTEND;TZID=Europe/London:20250704T210000
DTSTAMP:20260425T163934
CREATED:20250709T200304Z
LAST-MODIFIED:20250709T200304Z
UID:11662-1751655600-1751662800@tolworthurc.org.uk
SUMMARY:Guides
DESCRIPTION:
URL:https://tolworthurc.org.uk/event/guides-185/
LOCATION:Elgar Hall
CATEGORIES:Church Events
END:VEVENT
BEGIN:VEVENT
DTSTART;TZID=Europe/London:20250706T103000
DTEND;TZID=Europe/London:20250706T113000
DTSTAMP:20260425T163934
CREATED:20250607T201454Z
LAST-MODIFIED:20250607T201454Z
UID:11567-1751797800-1751801400@tolworthurc.org.uk
SUMMARY:Morning Worship led by Ms Sue Shaw  03306060403 (Await instructions) Access code (Enter) 1529640# (Don’t forget the #) OR HTTPS://join.thefreeconferencecall.com/rjones
DESCRIPTION:
URL:https://tolworthurc.org.uk/event/morning-worship-led-by-ms-sue-shaw-03306060403-await-instructions-access-code-enter-1529640-dont-forget-the-or-https-join-thefreeconferencecall-com-rjones/
LOCATION:Church
CATEGORIES:Church Events
END:VEVENT
BEGIN:VEVENT
DTSTART;TZID=Europe/London:20250707T173000
DTEND;TZID=Europe/London:20250707T193000
DTSTAMP:20260425T163934
CREATED:20250708T173025Z
LAST-MODIFIED:20250708T173025Z
UID:11591-1751909400-1751916600@tolworthurc.org.uk
SUMMARY:Pilots
DESCRIPTION:
URL:https://tolworthurc.org.uk/event/pilots-210/
LOCATION:Elgar Hall
CATEGORIES:Church Events
END:VEVENT
BEGIN:VEVENT
DTSTART;TZID=Europe/London:20250709T100000
DTEND;TZID=Europe/London:20250709T120000
DTSTAMP:20260425T163934
CREATED:20250708T172532Z
LAST-MODIFIED:20250708T172532Z
UID:11587-1752055200-1752062400@tolworthurc.org.uk
SUMMARY:Playtime
DESCRIPTION:
URL:https://tolworthurc.org.uk/event/playtime-208/
LOCATION:Raeburn Hall
CATEGORIES:Church Events
END:VEVENT
BEGIN:VEVENT
DTSTART;TZID=Europe/London:20250709T173000
DTEND;TZID=Europe/London:20250709T193000
DTSTAMP:20260425T163934
CREATED:20250709T193511Z
LAST-MODIFIED:20250709T193511Z
UID:11634-1752082200-1752089400@tolworthurc.org.uk
SUMMARY:Brownies
DESCRIPTION:
URL:https://tolworthurc.org.uk/event/brownies-178/
LOCATION:Elgar Hall
CATEGORIES:Church Events
END:VEVENT
BEGIN:VEVENT
DTSTART;TZID=Europe/London:20250711T170000
DTEND;TZID=Europe/London:20250711T183000
DTSTAMP:20260425T163934
CREATED:20250709T195008Z
LAST-MODIFIED:20250709T195008Z
UID:11650-1752253200-1752258600@tolworthurc.org.uk
SUMMARY:Rainbows
DESCRIPTION:
URL:https://tolworthurc.org.uk/event/rainbows-180/
LOCATION:Elgar Hall
CATEGORIES:Church Events
END:VEVENT
BEGIN:VEVENT
DTSTART;TZID=Europe/London:20250711T190000
DTEND;TZID=Europe/London:20250711T210000
DTSTAMP:20260425T163934
CREATED:20250709T200457Z
LAST-MODIFIED:20250709T200457Z
UID:11664-1752260400-1752267600@tolworthurc.org.uk
SUMMARY:Guides
DESCRIPTION:
URL:https://tolworthurc.org.uk/event/guides-186/
LOCATION:Elgar Hall
CATEGORIES:Church Events
END:VEVENT
BEGIN:VEVENT
DTSTART;TZID=Europe/London:20250713T103000
DTEND;TZID=Europe/London:20250713T113000
DTSTAMP:20260425T163934
CREATED:20250708T174804Z
LAST-MODIFIED:20250708T174804Z
UID:11600-1752402600-1752406200@tolworthurc.org.uk
SUMMARY:Holy Communion Service led by our Minister followed by Church Meeting 03306060403 (Await instructions) Access code (Enter) 1529640# (Don’t forget the #) OR HTTPS://join.thefreeconferencecall.com/rjones
DESCRIPTION:
URL:https://tolworthurc.org.uk/event/holy-communion-service-led-by-our-minister-followed-by-church-meeting-03306060403-await-instructions-access-code-enter-1529640-dont-forget-the-or-https-join-thefreeconferencecall-c/
LOCATION:Church
CATEGORIES:Church Events
END:VEVENT
BEGIN:VEVENT
DTSTART;TZID=Europe/London:20250714T173000
DTEND;TZID=Europe/London:20250714T193000
DTSTAMP:20260425T163934
CREATED:20250708T173302Z
LAST-MODIFIED:20250708T173302Z
UID:11593-1752514200-1752521400@tolworthurc.org.uk
SUMMARY:Pilots
DESCRIPTION:
URL:https://tolworthurc.org.uk/event/pilots-211/
LOCATION:Elgar Hall
CATEGORIES:Church Events
END:VEVENT
BEGIN:VEVENT
DTSTART;TZID=Europe/London:20250716T100000
DTEND;TZID=Europe/London:20250716T120000
DTSTAMP:20260425T163934
CREATED:20250708T172745Z
LAST-MODIFIED:20250708T172745Z
UID:11589-1752660000-1752667200@tolworthurc.org.uk
SUMMARY:Playtime
DESCRIPTION:
URL:https://tolworthurc.org.uk/event/playtime-209/
LOCATION:Raeburn Hall
CATEGORIES:Church Events
END:VEVENT
BEGIN:VEVENT
DTSTART;TZID=Europe/London:20250716T173000
DTEND;TZID=Europe/London:20250716T193000
DTSTAMP:20260425T163934
CREATED:20250709T193819Z
LAST-MODIFIED:20250709T193819Z
UID:11636-1752687000-1752694200@tolworthurc.org.uk
SUMMARY:Brownies
DESCRIPTION:
URL:https://tolworthurc.org.uk/event/brownies-179/
LOCATION:Elgar Hall
CATEGORIES:Church Events
END:VEVENT
BEGIN:VEVENT
DTSTART;TZID=Europe/London:20250717T153000
DTEND;TZID=Europe/London:20250717T173000
DTSTAMP:20260425T163934
CREATED:20250708T173520Z
LAST-MODIFIED:20250708T173520Z
UID:11595-1752766200-1752773400@tolworthurc.org.uk
SUMMARY:Messy Church
DESCRIPTION:
URL:https://tolworthurc.org.uk/event/messy-church-46/
LOCATION:Elgar Hall
CATEGORIES:Church Events
END:VEVENT
BEGIN:VEVENT
DTSTART;TZID=Europe/London:20250718T170000
DTEND;TZID=Europe/London:20250718T183000
DTSTAMP:20260425T163934
CREATED:20250709T195147Z
LAST-MODIFIED:20250709T195147Z
UID:11652-1752858000-1752863400@tolworthurc.org.uk
SUMMARY:Rainbows
DESCRIPTION:
URL:https://tolworthurc.org.uk/event/rainbows-181/
LOCATION:Elgar Hall
CATEGORIES:Church Events
END:VEVENT
BEGIN:VEVENT
DTSTART;TZID=Europe/London:20250718T190000
DTEND;TZID=Europe/London:20250718T210000
DTSTAMP:20260425T163934
CREATED:20250709T200648Z
LAST-MODIFIED:20250709T200648Z
UID:11666-1752865200-1752872400@tolworthurc.org.uk
SUMMARY:Guides
DESCRIPTION:
URL:https://tolworthurc.org.uk/event/guides-187/
LOCATION:Elgar Hall
CATEGORIES:Church Events
END:VEVENT
BEGIN:VEVENT
DTSTART;TZID=Europe/London:20250720T103000
DTEND;TZID=Europe/London:20250720T113000
DTSTAMP:20260425T163934
CREATED:20250708T175244Z
LAST-MODIFIED:20250708T175244Z
UID:11603-1753007400-1753011000@tolworthurc.org.uk
SUMMARY:Morning Worship led by Paul and Jenny Hollingum 03306060403 (Await instructions) Access code (Enter) 1529640# (Don’t forget the #) OR HTTPS://join.thefreeconferencecall.com/rjones
DESCRIPTION:
URL:https://tolworthurc.org.uk/event/morning-worship-led-by-paul-and-jenny-hollingum-03306060403-await-instructions-access-code-enter-1529640-dont-forget-the-or-https-join-thefreeconferencecall-com-rjones-2/
LOCATION:Church
CATEGORIES:Church Events
END:VEVENT
BEGIN:VEVENT
DTSTART;TZID=Europe/London:20250720T183000
DTEND;TZID=Europe/London:20250720T193000
DTSTAMP:20260425T163934
CREATED:20250708T175517Z
LAST-MODIFIED:20250708T175541Z
UID:11606-1753036200-1753039800@tolworthurc.org.uk
SUMMARY:Evergreen Service
DESCRIPTION:
URL:https://tolworthurc.org.uk/event/evergreen-service-6/
LOCATION:Church
CATEGORIES:Church Events
END:VEVENT
BEGIN:VEVENT
DTSTART;TZID=Europe/London:20250727T103000
DTEND;TZID=Europe/London:20250727T113000
DTSTAMP:20260425T163934
CREATED:20250708T175941Z
LAST-MODIFIED:20250708T175941Z
UID:11608-1753612200-1753615800@tolworthurc.org.uk
SUMMARY:Morning Worship led by our Minister 03306060403 (Await instructions) Access code (Enter) 1529640# (Don’t forget the #) OR HTTPS://join.thefreeconferencecall.com/rjones
DESCRIPTION:
URL:https://tolworthurc.org.uk/event/morning-worship-led-by-our-minister-03306060403-await-instructions-access-code-enter-1529640-dont-forget-the-or-https-join-thefreeconferencecall-com-rjones-13/
LOCATION:Church
CATEGORIES:Church Events
END:VEVENT
BEGIN:VEVENT
DTSTART;TZID=Europe/London:20250803T103000
DTEND;TZID=Europe/London:20250803T113000
DTSTAMP:20260425T163934
CREATED:20250708T180314Z
LAST-MODIFIED:20250708T180314Z
UID:11610-1754217000-1754220600@tolworthurc.org.uk
SUMMARY:Morning Worship led by Ms Heather Lodge 03306060403 (Await instructions) Access code (Enter) 1529640# (Don’t forget the #) OR HTTPS://join.thefreeconferencecall.com/rjones
DESCRIPTION:de\n\nPaul Craven\nChurch Events\n—No tags\n—\nJuly 7\nJuly 7\n\n\nSelect Morning Worship led by Ms Sue Shaw 03306060403 (Await instructions) Access code (Enter) 1529640# (Don’t forget the #) OR HTTPS://join.thefreeconferencecall.com/rjones\nMorning Worship led by Ms Sue Shaw 03306060403 (Await instructions) Access code (Enter) 1529640# (Don’t forget the #) OR HTTPS://join.thefreeconferencecall.com/rjones
URL:https://tolworthurc.org.uk/event/morning-worship-led-by-ms-heather-lodge-03306060403-await-instructions-access-code-enter-1529640-dont-forget-the-or-https-join-thefreeconferencecall-com-rjones-9/
LOCATION:Church
CATEGORIES:Church Events
END:VEVENT
BEGIN:VEVENT
DTSTART;TZID=Europe/London:20250810T103000
DTEND;TZID=Europe/London:20250810T113000
DTSTAMP:20260425T163934
CREATED:20250708T180638Z
LAST-MODIFIED:20250708T182050Z
UID:11613-1754821800-1754825400@tolworthurc.org.uk
SUMMARY:Morning Holy Communion led by our Minister 03306060403 (Await instructions) Access code (Enter) 1529640# (Don’t forget the #) OR HTTPS://join.thefreeconferencecall.com/rjones
DESCRIPTION:
URL:https://tolworthurc.org.uk/event/morning-worship-led-by-our-minister-03306060403-await-instructions-access-code-enter-1529640-dont-forget-the-or-https-join-thefreeconferencecall-com-rjones-14/
LOCATION:Church
CATEGORIES:Church Events
END:VEVENT
END:VCALENDAR