BEGIN:VCALENDAR
VERSION:2.0
PRODID:-//Tolworth United Reformed Church - ECPv6.15.20//NONSGML v1.0//EN
CALSCALE:GREGORIAN
METHOD:PUBLISH
X-ORIGINAL-URL:https://tolworthurc.org.uk
X-WR-CALDESC:Events for Tolworth United Reformed Church
REFRESH-INTERVAL;VALUE=DURATION:PT1H
X-Robots-Tag:noindex
X-PUBLISHED-TTL:PT1H
BEGIN:VTIMEZONE
TZID:Europe/London
BEGIN:DAYLIGHT
TZOFFSETFROM:+0000
TZOFFSETTO:+0100
TZNAME:BST
DTSTART:20250330T010000
END:DAYLIGHT
BEGIN:STANDARD
TZOFFSETFROM:+0100
TZOFFSETTO:+0000
TZNAME:GMT
DTSTART:20251026T010000
END:STANDARD
BEGIN:DAYLIGHT
TZOFFSETFROM:+0000
TZOFFSETTO:+0100
TZNAME:BST
DTSTART:20260329T010000
END:DAYLIGHT
BEGIN:STANDARD
TZOFFSETFROM:+0100
TZOFFSETTO:+0000
TZNAME:GMT
DTSTART:20261025T010000
END:STANDARD
BEGIN:DAYLIGHT
TZOFFSETFROM:+0000
TZOFFSETTO:+0100
TZNAME:BST
DTSTART:20270328T010000
END:DAYLIGHT
BEGIN:STANDARD
TZOFFSETFROM:+0100
TZOFFSETTO:+0000
TZNAME:GMT
DTSTART:20271031T010000
END:STANDARD
END:VTIMEZONE
BEGIN:VEVENT
DTSTART;TZID=Europe/London:20260419T103000
DTEND;TZID=Europe/London:20260419T113000
DTSTAMP:20260424T172954
CREATED:20260408T152836Z
LAST-MODIFIED:20260408T152836Z
UID:12108-1776594600-1776598200@tolworthurc.org.uk
SUMMARY:Morning Worship led by Dr Nick Mayhew Smith 03306060403 (Await instructions) Access code (Enter) 1529640# (Don’t forget the #) OR HTTPS://join.thefreeconferencecall.com/rjones
DESCRIPTION:
URL:https://tolworthurc.org.uk/event/morning-worship-led-by-dr-nick-mayhew-smith-03306060403-await-instructions-access-code-enter-1529640-dont-forget-the-or-https-join-thefreeconferencecall-com-rjones/
LOCATION:Church
CATEGORIES:Church Events
END:VEVENT
BEGIN:VEVENT
DTSTART;TZID=Europe/London:20260419T183000
DTEND;TZID=Europe/London:20260419T193000
DTSTAMP:20260424T172954
CREATED:20260407T193336Z
LAST-MODIFIED:20260407T193336Z
UID:12098-1776623400-1776627000@tolworthurc.org.uk
SUMMARY:Evergreen Seevice
DESCRIPTION:
URL:https://tolworthurc.org.uk/event/evergreen-seevice/
LOCATION:Church
CATEGORIES:Church Events
END:VEVENT
BEGIN:VEVENT
DTSTART;TZID=Europe/London:20260420T173000
DTEND;TZID=Europe/London:20260420T193000
DTSTAMP:20260424T172954
CREATED:20260407T192039Z
LAST-MODIFIED:20260407T192039Z
UID:12088-1776706200-1776713400@tolworthurc.org.uk
SUMMARY:Pilots
DESCRIPTION:
URL:https://tolworthurc.org.uk/event/pilots-238/
LOCATION:Elgar Hall
CATEGORIES:Church Events
END:VEVENT
BEGIN:VEVENT
DTSTART;TZID=Europe/London:20260422T100000
DTEND;TZID=Europe/London:20260422T120000
DTSTAMP:20260424T172954
CREATED:20260407T192949Z
LAST-MODIFIED:20260407T192949Z
UID:12096-1776852000-1776859200@tolworthurc.org.uk
SUMMARY:Playtime
DESCRIPTION:
URL:https://tolworthurc.org.uk/event/playtime-238/
LOCATION:Raeburn Hall
CATEGORIES:Church Events
END:VEVENT
BEGIN:VEVENT
DTSTART;TZID=Europe/London:20260423T153000
DTEND;TZID=Europe/London:20260423T170000
DTSTAMP:20260424T172954
CREATED:20260407T193606Z
LAST-MODIFIED:20260407T193606Z
UID:12100-1776958200-1776963600@tolworthurc.org.uk
SUMMARY:Messy Church
DESCRIPTION:
URL:https://tolworthurc.org.uk/event/messy-church-53/
LOCATION:Church
CATEGORIES:Church Events
END:VEVENT
BEGIN:VEVENT
DTSTART;TZID=Europe/London:20260426T103000
DTEND;TZID=Europe/London:20260426T120000
DTSTAMP:20260424T172954
CREATED:20260408T153245Z
LAST-MODIFIED:20260408T153245Z
UID:12110-1777199400-1777204800@tolworthurc.org.uk
SUMMARY:Morning Worshipled by Ms Heather Lodge 03306060403 (Await instructions) Access code (Enter) 1529640# (Don’t forget the #) OR HTTPS://join.thefreeconferencecall.com/rjones
DESCRIPTION:
URL:https://tolworthurc.org.uk/event/morning-worshipled-by-ms-heather-lodge-03306060403-await-instructions-access-code-enter-1529640-dont-forget-the-or-https-join-thefreeconferencecall-com-rjones/
LOCATION:Church
END:VEVENT
BEGIN:VEVENT
DTSTART;TZID=Europe/London:20260426T120000
DTEND;TZID=Europe/London:20260426T140000
DTSTAMP:20260424T172954
CREATED:20260407T193837Z
LAST-MODIFIED:20260407T193837Z
UID:12102-1777204800-1777212000@tolworthurc.org.uk
SUMMARY:Church meeting
DESCRIPTION:
URL:https://tolworthurc.org.uk/event/church-meeting-30/
LOCATION:Elgar Hall
CATEGORIES:Church Events
END:VEVENT
BEGIN:VEVENT
DTSTART;TZID=Europe/London:20260427T173000
DTEND;TZID=Europe/London:20260427T193000
DTSTAMP:20260424T172954
CREATED:20260407T192236Z
LAST-MODIFIED:20260407T192236Z
UID:12090-1777311000-1777318200@tolworthurc.org.uk
SUMMARY:Pilots
DESCRIPTION:
URL:https://tolworthurc.org.uk/event/pilots-239/
LOCATION:Elgar Hall
CATEGORIES:Church Events
END:VEVENT
BEGIN:VEVENT
DTSTART;TZID=Europe/London:20260429T100000
DTEND;TZID=Europe/London:20260429T120000
DTSTAMP:20260424T172954
CREATED:20260407T192640Z
LAST-MODIFIED:20260407T192640Z
UID:12094-1777456800-1777464000@tolworthurc.org.uk
SUMMARY:Playtime
DESCRIPTION:
URL:https://tolworthurc.org.uk/event/playtime-237/
LOCATION:Raeburn Hall
CATEGORIES:Church Events
END:VEVENT
BEGIN:VEVENT
DTSTART;TZID=Europe/London:20260429T123000
DTEND;TZID=Europe/London:20260429T143000
DTSTAMP:20260424T172954
CREATED:20260407T194120Z
LAST-MODIFIED:20260407T194120Z
UID:12104-1777465800-1777473000@tolworthurc.org.uk
SUMMARY:Lunch at Hogsmill - all welcome
DESCRIPTION:
URL:https://tolworthurc.org.uk/event/lunch-at-hogsmill-all-welcome-2/
END:VEVENT
BEGIN:VEVENT
DTSTART;TZID=Europe/London:20260503T103000
DTEND;TZID=Europe/London:20260503T113000
DTSTAMP:20260424T172954
CREATED:20260408T153602Z
LAST-MODIFIED:20260408T153602Z
UID:12112-1777804200-1777807800@tolworthurc.org.uk
SUMMARY:Youth Service 03306060403 (Await instructions) Access code (Enter) 1529640# (Don’t forget the #) OR HTTPS://join.thefreeconferencecall.com/rjones
DESCRIPTION:
URL:https://tolworthurc.org.uk/event/youth-service-03306060403-await-instructions-access-code-enter-1529640-dont-forget-the-or-https-join-thefreeconferencecall-com-rjones/
LOCATION:Church
CATEGORIES:Church Events
END:VEVENT
END:VCALENDAR